BEGIN:VCALENDAR
VERSION:2.0
PRODID:-//eventon.com NONSGML v1.0//EN
CALSCALE:GREGORIAN
METHOD:PUBLISH
BEGIN:VEVENT
UID:69e5f9b4ecec9
DTSTAMP:20260420T100228Z
DTSTART:20260214T000000Z
DTEND:20260214T020000Z
LOCATION:A Sacred Sanctuary 6235 London Groveport Rd\,  Grove City\,  OH 43123
SUMMARY:Divine Feminine Goddess Circle Friday the 13th New Moon Light Event & Sound Immersion
DESCRIPTION:Gathering to honor Friday the 13th also known as the Day of the
  Goddess for a Divine Feminine Goddess Circle &amp; Sound Immersion where w
 e will also celebrate the Chinese New Year (Lunar New Year) as well as an a
 nnular solar eclipse &amp; New Moon in Aquarius Feb 17th. Friday[..]\nhttps
 ://asacredsanctuary.com/events/divine-feminine-goddess-circle-friday-the-13
 th-new-moon-light-event-sound-immersion/
URL:https://asacredsanctuary.com/events/divine-feminine-goddess-circle-friday-the-13th-new-moon-light-event-sound-immersion/
END:VEVENT
END:VCALENDAR