BEGIN:VCALENDAR
VERSION:2.0
PRODID:-//eventon.com NONSGML v1.0//EN
CALSCALE:GREGORIAN
METHOD:PUBLISH
BEGIN:VEVENT
UID:69e89837ab970
DTSTAMP:20260422T094319Z
DTSTART:20251213T000000Z
DTEND:20251213T030000Z
LOCATION:A Sacred Sanctuary 6235 London Groveport Rd\,  Grove City\,  OH 43123
SUMMARY:12:12 Gateway Day Sacred Circle\,  Breathwork & Sound Immersion
DESCRIPTION:What Is the Meaning of the 12/12 Portal and How Can You Harness
  It? Believing in something unseen can feel counterintuitive in a world tha
 t values tangible proof. But some of the most meaningful transformations co
 me when we trust what we can feel\,  even if we can’t explain it!!! What[
 ..]\nhttps://asacredsanctuary.com/events/1212-gateway-day-sacred-circle-bre
 athwork-sound-immersion/
URL:https://asacredsanctuary.com/events/1212-gateway-day-sacred-circle-breathwork-sound-immersion/
END:VEVENT
END:VCALENDAR