BEGIN:VCALENDAR
VERSION:2.0
PRODID:-//eventon.com NONSGML v1.0//EN
CALSCALE:GREGORIAN
METHOD:PUBLISH
BEGIN:VEVENT
UID:69e899cc5a3c4
DTSTAMP:20260422T095004Z
DTSTART:20260228T140000Z
DTEND:20260301T000000Z
LOCATION:A Sacred Sanctuary 6235 London Groveport Rd\,  Grove City\,  OH 43123
SUMMARY:Women's Winter Retreat " A Sacred Journey"
DESCRIPTION:Winter embodies a unique spiritual significance. This season se
 rves as a reminder of introspection\,  stillness\,  and renewal. Embracing 
 these themes aids personal growth and enhances your sense of peace. It&#821
 7;s a Perfect time to Retreat at A Sacred Sanctuary. Join us for Healing wi
 th Horses\,  Art therapy\,  Mini Massage\,  Infar[..]\nhttps://asacredsanct
 uary.com/events/womens-winter-retreat/
URL:https://asacredsanctuary.com/events/womens-winter-retreat/
END:VEVENT
END:VCALENDAR